Workbook

Sheet プランシート
A1: 教育費プランシート：教育費の「山」と、月の積立額を出す
A2: 黄色のセルに入力します（青い文字）。ほかのセルは自動で計算されます。1行目の「例）長女」は、消して自分の家の数字に書きかえてください。
A3: このシートは、目標額と月の積立額を出すための計算用です。保険や投資の商品をすすめるものではありません。
A5: 今日の日付 | B5: =TODAY() | C5: 今年度（4月始まり） | D5: =YEAR(B5)-IF(MONTH(B5)<4,1,0)
A7: ① 教育費の「山」は、いつ来る？（子どもの今の学年を選ぶ）
A8: 子ども（呼び名でOK） | B8: 今の学年 | C8: 計算用（自動・さわらない） | D8: 中学入学 | E8: 高校入学 | F8: 進学（大学など）
A9: 例）長女 | B9: 高2 | C9: =IF(B9="","",MATCH(B9,リスト!$A$2:$A$13,0)) | D9: =IF(C9="","",IF(C9<=6,($D$5+7-C9)&"年4月","済")) | E9: =IF(C9="","",IF(C9<=9,($D$5+10-C9)&"年4月","済")) | F9: =IF(C9="","",IF(C9<=12,($D$5+13-C9)&"年4月","済"))
C10: =IF(B10="","",MATCH(B10,リスト!$A$2:$A$13,0)) | D10: =IF(C10="","",IF(C10<=6,($D$5+7-C10)&"年4月","済")) | E10: =IF(C10="","",IF(C10<=9,($D$5+10-C10)&"年4月","済")) | F10: =IF(C10="","",IF(C10<=12,($D$5+13-C10)&"年4月","済"))
C11: =IF(B11="","",MATCH(B11,リスト!$A$2:$A$13,0)) | D11: =IF(C11="","",IF(C11<=6,($D$5+7-C11)&"年4月","済")) | E11: =IF(C11="","",IF(C11<=9,($D$5+10-C11)&"年4月","済")) | F11: =IF(C11="","",IF(C11<=12,($D$5+13-C11)&"年4月","済"))
C12: =IF(B12="","",MATCH(B12,リスト!$A$2:$A$13,0)) | D12: =IF(C12="","",IF(C12<=6,($D$5+7-C12)&"年4月","済")) | E12: =IF(C12="","",IF(C12<=9,($D$5+10-C12)&"年4月","済")) | F12: =IF(C12="","",IF(C12<=12,($D$5+13-C12)&"年4月","済"))
A14: ② 山ごとの、目標額と月の積立額（山ごとに1行）
A15: 子ども（呼び名でOK） | B15: 何の費用？（リストから選ぶ） | C15: 目標額の目安（自動） | D15: 目標額（自分で決めた金額があれば入力） | E15: 今あるお金（円） | F15: いつまでに（年・その年の4月まで） | G15: 残りの月数 | H15: 月の積立額（円）
A16: 例）長女 | B16: 私立大学・理科系（4年間の学費） | C16: =IF(B16="","",IFERROR(INDEX(目安表!$E$2:$E$11,MATCH(B16,目安表!$A$2:$A$11,0)),"")) | E16: 3000000 | F16: 2028 | G16: =IF(F16="","",MAX(1,(F16-YEAR($B$5))*12+(4-MONTH($B$5)))) | H16: =IF(OR(G16="",AND(C16="",D16="")),"",ROUNDUP(MAX(0,IF(D16<>"",D16,C16)-IF(E16="",0,E16))/G16/100,0)*100)
C17: =IF(B17="","",IFERROR(INDEX(目安表!$E$2:$E$11,MATCH(B17,目安表!$A$2:$A$11,0)),"")) | G17: =IF(F17="","",MAX(1,(F17-YEAR($B$5))*12+(4-MONTH($B$5)))) | H17: =IF(OR(G17="",AND(C17="",D17="")),"",ROUNDUP(MAX(0,IF(D17<>"",D17,C17)-IF(E17="",0,E17))/G17/100,0)*100)
C18: =IF(B18="","",IFERROR(INDEX(目安表!$E$2:$E$11,MATCH(B18,目安表!$A$2:$A$11,0)),"")) | G18: =IF(F18="","",MAX(1,(F18-YEAR($B$5))*12+(4-MONTH($B$5)))) | H18: =IF(OR(G18="",AND(C18="",D18="")),"",ROUNDUP(MAX(0,IF(D18<>"",D18,C18)-IF(E18="",0,E18))/G18/100,0)*100)
C19: =IF(B19="","",IFERROR(INDEX(目安表!$E$2:$E$11,MATCH(B19,目安表!$A$2:$A$11,0)),"")) | G19: =IF(F19="","",MAX(1,(F19-YEAR($B$5))*12+(4-MONTH($B$5)))) | H19: =IF(OR(G19="",AND(C19="",D19="")),"",ROUNDUP(MAX(0,IF(D19<>"",D19,C19)-IF(E19="",0,E19))/G19/100,0)*100)
C20: =IF(B20="","",IFERROR(INDEX(目安表!$E$2:$E$11,MATCH(B20,目安表!$A$2:$A$11,0)),"")) | G20: =IF(F20="","",MAX(1,(F20-YEAR($B$5))*12+(4-MONTH($B$5)))) | H20: =IF(OR(G20="",AND(C20="",D20="")),"",ROUNDUP(MAX(0,IF(D20<>"",D20,C20)-IF(E20="",0,E20))/G20/100,0)*100)
C21: =IF(B21="","",IFERROR(INDEX(目安表!$E$2:$E$11,MATCH(B21,目安表!$A$2:$A$11,0)),"")) | G21: =IF(F21="","",MAX(1,(F21-YEAR($B$5))*12+(4-MONTH($B$5)))) | H21: =IF(OR(G21="",AND(C21="",D21="")),"",ROUNDUP(MAX(0,IF(D21<>"",D21,C21)-IF(E21="",0,E21))/G21/100,0)*100)
G22: 月の積立額の合計 | H22: =SUM(H16:H21)
A24: 【計算のしかた】月の積立額 ＝（目標額 － 今あるお金）÷ 残りの月数。100円単位で切り上げます。
A25: 【残りの月数】今日から、「いつまでに」で入れた年の4月までの月数です（最低1か月）。
A26: 【目標額】「目標額（自分で決めた金額）」に入力すると、目安の代わりに使われます。
A27: 【ふくまれないもの】受験費用、一人暮らしの費用（仕送り）、入学金を払ったあと進学しなかった学校への納付金など（「世間の平均」の行は、受験費用・塾・通学費などを含みます）。
A28: 【ご注意】金額は目安です。学校や学部、地域で変わります。保険や投資については、専門家や公式の窓口で確認してください。
A29: 出典：文部科学省、日本政策金融公庫（くわしくは「目安表」シート）。作成：家計と通信費のミカタ

Sheet 目安表
A1: 項目 | B1: 初年度（円） | C1: 2年目以降の年額（円） | D1: 年数 | E1: 合計の目安（円） | F1: 中身・前提 | G1: 出典
A2: 国立大学（4年間の学費） | B2: 817800 | C2: 535800 | D2: 4 | E2: =B2+C2*(D2-1) | F2: 入学料282,000円＋授業料 年535,800円（標準額）。受験費用・生活費は含まない | G2: 文部科学省「国立大学と私立大学の授業料等の推移」
A3: 私立大学・文科系（4年間の学費） | B3: 1212235 | C3: 992284 | D3: 4 | E3: =B3+C3*(D3-1) | F3: 初年度＝授業料850,392円＋入学料219,951円＋施設設備費141,892円。2年目以降＝授業料＋施設設備費（同額と仮定。実験実習料などは含まない） | G3: 文部科学省「令和7年度 私立大学入学者に係る初年度学生納付金等平均額の調査結果について」
A4: 私立大学・理科系（4年間の学費） | B4: 1602053 | C4: 1356691 | D4: 4 | E4: =B4+C4*(D4-1) | F4: 初年度＝授業料1,195,313円＋入学料245,362円＋施設設備費161,378円。2年目以降＝授業料＋施設設備費（同額と仮定） | G4: 同上
A5: 私立大学・全体の平均（4年間の学費） | B5: 1380983 | C5: 1140619 | D5: 4 | E5: =B5+C5*(D5-1) | F5: 初年度＝授業料968,069円＋入学料240,365円＋施設設備費172,550円。2年目以降＝授業料＋施設設備費（同額と仮定） | G5: 同上
A6: 【世間の平均】国公立大学の分（受験・塾・通学費なども含む） | B6: 4812000 | C6: 0 | D6: 1 | E6: =B6+C6*(D6-1) | F6: 高校入学〜大学卒業の累計743.0万円−高校3年間261.8万円。仕送りは含まない | G6: 日本政策金融公庫「教育費負担の実態調査結果」令和3年度（2021年12月）
A7: 【世間の平均】私立大学・文系の分（同上） | B7: 6898000 | C7: 0 | D7: 1 | E7: =B7+C7*(D7-1) | F7: 累計951.6万円−高校3年間261.8万円。仕送りは含まない | G7: 同上
A8: 【世間の平均】私立大学・理系の分（同上） | B8: 8216000 | C8: 0 | D8: 1 | E8: =B8+C8*(D8-1) | F8: 累計1,083.4万円−高校3年間261.8万円。仕送りは含まない | G8: 同上
A9: 公立高校の入学時（わが家の例） | B9: 520000 | C9: 0 | D9: 1 | E9: =B9+C9*(D9-1) | F9: 制服・指定品、PC、教科書、自転車など。2025年度入学の実績 | G9: わが家の実績
A10: 高校の修学旅行（わが家の例） | B10: 100000 | C10: 0 | D10: 1 | E10: =B10+C10*(D10-1) | F10: 約10万円 | G10: わが家の実績
A11: その他（自分で金額を決める） | B11: 0 | C11: 0 | D11: 1 | E11: =B11+C11*(D11-1) | F11: この行を選んだら、プランシートの「目標額」に自分で入力します
A13: 金額は2026年10月時点の公式の数字をもとにした目安です。最新の金額は、各出典で確認してください。
A14: 青い文字の数字は、公式の資料やわが家の実績から入れた値です。自分の家に合わせて変えてもかまいません。

Sheet リスト
A1: 学年 | B1: 番号
A2: 小1 | B2: 1
A3: 小2 | B3: 2
A4: 小3 | B4: 3
A5: 小4 | B5: 4
A6: 小5 | B6: 5
A7: 小6 | B7: 6
A8: 中1 | B8: 7
A9: 中2 | B9: 8
A10: 中3 | B10: 9
A11: 高1 | B11: 10
A12: 高2 | B12: 11
A13: 高3 | B13: 12
